Workbook

Sheet Daily
A1: Date | B1: Chambres_totales | C1: Chambres_hors_service | D1: Chambres_vendues | E1: Objectif_TO_% | F1: Jour_sem. | G1: Chambres_dispo_effectives | H1: TO_% | I1: Écart_vs_objectif_pts | J1: Chambres_restant_pour_objectif
A2: 46327 | B2: 40 | C2: 0 | E2: 80 | F2: =CHOOSE(WEEKDAY(A2,2),"lun","mar","mer","jeu","ven","sam","dim") -> dim | G2: =B2-C2 -> 40 | H2: =IF(OR(D2="",G2<=0),"",D2/G2) | I2: =IF(H2="","",ROUND(100*H2-E2,1)) | J2: =IF(OR(D2="",G2<=0),"",MAX(0,ROUNDUP(E2/100*G2-D2,0)))
A3: =A2+1 -> 46328 | B3: 40 | C3: 0 | E3: 80 | F3: =CHOOSE(WEEKDAY(A3,2),"lun","mar","mer","jeu","ven","sam","dim") -> lun | G3: =B3-C3 -> 40 | H3: =IF(OR(D3="",G3<=0),"",D3/G3) | I3: =IF(H3="","",ROUND(100*H3-E3,1)) | J3: =IF(OR(D3="",G3<=0),"",MAX(0,ROUNDUP(E3/100*G3-D3,0)))
A4: =A3+1 -> 46329 | B4: 40 | C4: 0 | E4: 80 | F4: =CHOOSE(WEEKDAY(A4,2),"lun","mar","mer","jeu","ven","sam","dim") -> mar | G4: =B4-C4 -> 40 | H4: =IF(OR(D4="",G4<=0),"",D4/G4) | I4: =IF(H4="","",ROUND(100*H4-E4,1)) | J4: =IF(OR(D4="",G4<=0),"",MAX(0,ROUNDUP(E4/100*G4-D4,0)))
A5: =A4+1 -> 46330 | B5: 40 | C5: 0 | E5: 80 | F5: =CHOOSE(WEEKDAY(A5,2),"lun","mar","mer","jeu","ven","sam","dim") -> mer | G5: =B5-C5 -> 40 | H5: =IF(OR(D5="",G5<=0),"",D5/G5) | I5: =IF(H5="","",ROUND(100*H5-E5,1)) | J5: =IF(OR(D5="",G5<=0),"",MAX(0,ROUNDUP(E5/100*G5-D5,0)))
A6: =A5+1 -> 46331 | B6: 40 | C6: 0 | E6: 80 | F6: =CHOOSE(WEEKDAY(A6,2),"lun","mar","mer","jeu","ven","sam","dim") -> jeu | G6: =B6-C6 -> 40 | H6: =IF(OR(D6="",G6<=0),"",D6/G6) | I6: =IF(H6="","",ROUND(100*H6-E6,1)) | J6: =IF(OR(D6="",G6<=0),"",MAX(0,ROUNDUP(E6/100*G6-D6,0)))
A7: =A6+1 -> 46332 | B7: 40 | C7: 0 | E7: 80 | F7: =CHOOSE(WEEKDAY(A7,2),"lun","mar","mer","jeu","ven","sam","dim") -> ven | G7: =B7-C7 -> 40 | H7: =IF(OR(D7="",G7<=0),"",D7/G7) | I7: =IF(H7="","",ROUND(100*H7-E7,1)) | J7: =IF(OR(D7="",G7<=0),"",MAX(0,ROUNDUP(E7/100*G7-D7,0)))
A8: =A7+1 -> 46333 | B8: 40 | C8: 0 | E8: 80 | F8: =CHOOSE(WEEKDAY(A8,2),"lun","mar","mer","jeu","ven","sam","dim") -> sam | G8: =B8-C8 -> 40 | H8: =IF(OR(D8="",G8<=0),"",D8/G8) | I8: =IF(H8="","",ROUND(100*H8-E8,1)) | J8: =IF(OR(D8="",G8<=0),"",MAX(0,ROUNDUP(E8/100*G8-D8,0)))
A9: =A8+1 -> 46334 | B9: 40 | C9: 0 | E9: 80 | F9: =CHOOSE(WEEKDAY(A9,2),"lun","mar","mer","jeu","ven","sam","dim") -> dim | G9: =B9-C9 -> 40 | H9: =IF(OR(D9="",G9<=0),"",D9/G9) | I9: =IF(H9="","",ROUND(100*H9-E9,1)) | J9: =IF(OR(D9="",G9<=0),"",MAX(0,ROUNDUP(E9/100*G9-D9,0)))
A10: =A9+1 -> 46335 | B10: 40 | C10: 0 | E10: 80 | F10: =CHOOSE(WEEKDAY(A10,2),"lun","mar","mer","jeu","ven","sam","dim") -> lun | G10: =B10-C10 -> 40 | H10: =IF(OR(D10="",G10<=0),"",D10/G10) | I10: =IF(H10="","",ROUND(100*H10-E10,1)) | J10: =IF(OR(D10="",G10<=0),"",MAX(0,ROUNDUP(E10/100*G10-D10,0)))
A11: =A10+1 -> 46336 | B11: 40 | C11: 0 | E11: 80 | F11: =CHOOSE(WEEKDAY(A11,2),"lun","mar","mer","jeu","ven","sam","dim") -> mar | G11: =B11-C11 -> 40 | H11: =IF(OR(D11="",G11<=0),"",D11/G11) | I11: =IF(H11="","",ROUND(100*H11-E11,1)) | J11: =IF(OR(D11="",G11<=0),"",MAX(0,ROUNDUP(E11/100*G11-D11,0)))
A12: =A11+1 -> 46337 | B12: 40 | C12: 0 | E12: 80 | F12: =CHOOSE(WEEKDAY(A12,2),"lun","mar","mer","jeu","ven","sam","dim") -> mer | G12: =B12-C12 -> 40 | H12: =IF(OR(D12="",G12<=0),"",D12/G12) | I12: =IF(H12="","",ROUND(100*H12-E12,1)) | J12: =IF(OR(D12="",G12<=0),"",MAX(0,ROUNDUP(E12/100*G12-D12,0)))
A13: =A12+1 -> 46338 | B13: 40 | C13: 0 | E13: 80 | F13: =CHOOSE(WEEKDAY(A13,2),"lun","mar","mer","jeu","ven","sam","dim") -> jeu | G13: =B13-C13 -> 40 | H13: =IF(OR(D13="",G13<=0),"",D13/G13) | I13: =IF(H13="","",ROUND(100*H13-E13,1)) | J13: =IF(OR(D13="",G13<=0),"",MAX(0,ROUNDUP(E13/100*G13-D13,0)))
A14: =A13+1 -> 46339 | B14: 40 | C14: 0 | E14: 80 | F14: =CHOOSE(WEEKDAY(A14,2),"lun","mar","mer","jeu","ven","sam","dim") -> ven | G14: =B14-C14 -> 40 | H14: =IF(OR(D14="",G14<=0),"",D14/G14) | I14: =IF(H14="","",ROUND(100*H14-E14,1)) | J14: =IF(OR(D14="",G14<=0),"",MAX(0,ROUNDUP(E14/100*G14-D14,0)))
... A63: =A62+1 -> 46388 | B63: 40 | C63: 0 | E63: 80 | F63: =CHOOSE(WEEKDAY(A63,2),"lun","mar","mer","jeu","ven","sam","dim") -> ven | G63: =B63-C63 -> 40 | H63: =IF(OR(D63="",G63<=0),"",D63/G63) | I63: =IF(H63="","",ROUND(100*H63-E63,1)) | J63: =IF(OR(D63="",G63<=0),"",MAX(0,ROUNDUP(E63/100*G63-D63,0)))

Sheet Pickup
A1: Date | B1: Chambres_dispo_effectives | C1: OnTheBooks_chambres | D1: Objectif_TO_% | E1: Objectif_chambres | F1: Chambres_restant | G1: Jours_avant_arrivee | H1: Pickup_quotidien_cible | I1: Aide_lecture
A2: =Daily!A2 -> 46327 | B2: =Daily!G2 -> 40 | D2: =Daily!E2 -> 80 | E2: =ROUNDUP(D2/100*B2,0) -> 32 | F2: =IF(C2="","",MAX(0,E2-C2)) | G2: =A2-TODAY() -> 24 | H2: =IF(OR(C2="",G2<=0),"",ROUNDUP(F2/G2,0)) | I2: =IF(G2<=0,"Date passée",IF(C2="","Saisir l'OTB du jour",IF(F2=0,"Objectif atteint : relire le prix avant de vendre plus",IF(G2<=7,"Retard à J-7 ou moins : comparer au même délai N-1 avant d'agir","Suivre le rythme : comparer au même délai N-1")))) -> Saisir l'OTB du jour
A3: =Daily!A3 -> 46328 | B3: =Daily!G3 -> 40 | D3: =Daily!E3 -> 80 | E3: =ROUNDUP(D3/100*B3,0) -> 32 | F3: =IF(C3="","",MAX(0,E3-C3)) | G3: =A3-TODAY() -> 25 | H3: =IF(OR(C3="",G3<=0),"",ROUNDUP(F3/G3,0)) | I3: =IF(G3<=0,"Date passée",IF(C3="","Saisir l'OTB du jour",IF(F3=0,"Objectif atteint : relire le prix avant de vendre plus",IF(G3<=7,"Retard à J-7 ou moins : comparer au même délai N-1 avant d'agir","Suivre le rythme : comparer au même délai N-1")))) -> Saisir l'OTB du jour
A4: =Daily!A4 -> 46329 | B4: =Daily!G4 -> 40 | D4: =Daily!E4 -> 80 | E4: =ROUNDUP(D4/100*B4,0) -> 32 | F4: =IF(C4="","",MAX(0,E4-C4)) | G4: =A4-TODAY() -> 26 | H4: =IF(OR(C4="",G4<=0),"",ROUNDUP(F4/G4,0)) | I4: =IF(G4<=0,"Date passée",IF(C4="","Saisir l'OTB du jour",IF(F4=0,"Objectif atteint : relire le prix avant de vendre plus",IF(G4<=7,"Retard à J-7 ou moins : comparer au même délai N-1 avant d'agir","Suivre le rythme : comparer au même délai N-1")))) -> Saisir l'OTB du jour
A5: =Daily!A5 -> 46330 | B5: =Daily!G5 -> 40 | D5: =Daily!E5 -> 80 | E5: =ROUNDUP(D5/100*B5,0) -> 32 | F5: =IF(C5="","",MAX(0,E5-C5)) | G5: =A5-TODAY() -> 27 | H5: =IF(OR(C5="",G5<=0),"",ROUNDUP(F5/G5,0)) | I5: =IF(G5<=0,"Date passée",IF(C5="","Saisir l'OTB du jour",IF(F5=0,"Objectif atteint : relire le prix avant de vendre plus",IF(G5<=7,"Retard à J-7 ou moins : comparer au même délai N-1 avant d'agir","Suivre le rythme : comparer au même délai N-1")))) -> Saisir l'OTB du jour
A6: =Daily!A6 -> 46331 | B6: =Daily!G6 -> 40 | D6: =Daily!E6 -> 80 | E6: =ROUNDUP(D6/100*B6,0) -> 32 | F6: =IF(C6="","",MAX(0,E6-C6)) | G6: =A6-TODAY() -> 28 | H6: =IF(OR(C6="",G6<=0),"",ROUNDUP(F6/G6,0)) | I6: =IF(G6<=0,"Date passée",IF(C6="","Saisir l'OTB du jour",IF(F6=0,"Objectif atteint : relire le prix avant de vendre plus",IF(G6<=7,"Retard à J-7 ou moins : comparer au même délai N-1 avant d'agir","Suivre le rythme : comparer au même délai N-1")))) -> Saisir l'OTB du jour
A7: =Daily!A7 -> 46332 | B7: =Daily!G7 -> 40 | D7: =Daily!E7 -> 80 | E7: =ROUNDUP(D7/100*B7,0) -> 32 | F7: =IF(C7="","",MAX(0,E7-C7)) | G7: =A7-TODAY() -> 29 | H7: =IF(OR(C7="",G7<=0),"",ROUNDUP(F7/G7,0)) | I7: =IF(G7<=0,"Date passée",IF(C7="","Saisir l'OTB du jour",IF(F7=0,"Objectif atteint : relire le prix avant de vendre plus",IF(G7<=7,"Retard à J-7 ou moins : comparer au même délai N-1 avant d'agir","Suivre le rythme : comparer au même délai N-1")))) -> Saisir l'OTB du jour
A8: =Daily!A8 -> 46333 | B8: =Daily!G8 -> 40 | D8: =Daily!E8 -> 80 | E8: =ROUNDUP(D8/100*B8,0) -> 32 | F8: =IF(C8="","",MAX(0,E8-C8)) | G8: =A8-TODAY() -> 30 | H8: =IF(OR(C8="",G8<=0),"",ROUNDUP(F8/G8,0)) | I8: =IF(G8<=0,"Date passée",IF(C8="","Saisir l'OTB du jour",IF(F8=0,"Objectif atteint : relire le prix avant de vendre plus",IF(G8<=7,"Retard à J-7 ou moins : comparer au même délai N-1 avant d'agir","Suivre le rythme : comparer au même délai N-1")))) -> Saisir l'OTB du jour
A9: =Daily!A9 -> 46334 | B9: =Daily!G9 -> 40 | D9: =Daily!E9 -> 80 | E9: =ROUNDUP(D9/100*B9,0) -> 32 | F9: =IF(C9="","",MAX(0,E9-C9)) | G9: =A9-TODAY() -> 31 | H9: =IF(OR(C9="",G9<=0),"",ROUNDUP(F9/G9,0)) | I9: =IF(G9<=0,"Date passée",IF(C9="","Saisir l'OTB du jour",IF(F9=0,"Objectif atteint : relire le prix avant de vendre plus",IF(G9<=7,"Retard à J-7 ou moins : comparer au même délai N-1 avant d'agir","Suivre le rythme : comparer au même délai N-1")))) -> Saisir l'OTB du jour
A10: =Daily!A10 -> 46335 | B10: =Daily!G10 -> 40 | D10: =Daily!E10 -> 80 | E10: =ROUNDUP(D10/100*B10,0) -> 32 | F10: =IF(C10="","",MAX(0,E10-C10)) | G10: =A10-TODAY() -> 32 | H10: =IF(OR(C10="",G10<=0),"",ROUNDUP(F10/G10,0)) | I10: =IF(G10<=0,"Date passée",IF(C10="","Saisir l'OTB du jour",IF(F10=0,"Objectif atteint : relire le prix avant de vendre plus",IF(G10<=7,"Retard à J-7 ou moins : comparer au même délai N-1 avant d'agir","Suivre le rythme : comparer au même délai N-1")))) -> Saisir l'OTB du jour
A11: =Daily!A11 -> 46336 | B11: =Daily!G11 -> 40 | D11: =Daily!E11 -> 80 | E11: =ROUNDUP(D11/100*B11,0) -> 32 | F11: =IF(C11="","",MAX(0,E11-C11)) | G11: =A11-TODAY() -> 33 | H11: =IF(OR(C11="",G11<=0),"",ROUNDUP(F11/G11,0)) | I11: =IF(G11<=0,"Date passée",IF(C11="","Saisir l'OTB du jour",IF(F11=0,"Objectif atteint : relire le prix avant de vendre plus",IF(G11<=7,"Retard à J-7 ou moins : comparer au même délai N-1 avant d'agir","Suivre le rythme : comparer au même délai N-1")))) -> Saisir l'OTB du jour
A12: =Daily!A12 -> 46337 | B12: =Daily!G12 -> 40 | D12: =Daily!E12 -> 80 | E12: =ROUNDUP(D12/100*B12,0) -> 32 | F12: =IF(C12="","",MAX(0,E12-C12)) | G12: =A12-TODAY() -> 34 | H12: =IF(OR(C12="",G12<=0),"",ROUNDUP(F12/G12,0)) | I12: =IF(G12<=0,"Date passée",IF(C12="","Saisir l'OTB du jour",IF(F12=0,"Objectif atteint : relire le prix avant de vendre plus",IF(G12<=7,"Retard à J-7 ou moins : comparer au même délai N-1 avant d'agir","Suivre le rythme : comparer au même délai N-1")))) -> Saisir l'OTB du jour
A13: =Daily!A13 -> 46338 | B13: =Daily!G13 -> 40 | D13: =Daily!E13 -> 80 | E13: =ROUNDUP(D13/100*B13,0) -> 32 | F13: =IF(C13="","",MAX(0,E13-C13)) | G13: =A13-TODAY() -> 35 | H13: =IF(OR(C13="",G13<=0),"",ROUNDUP(F13/G13,0)) | I13: =IF(G13<=0,"Date passée",IF(C13="","Saisir l'OTB du jour",IF(F13=0,"Objectif atteint : relire le prix avant de vendre plus",IF(G13<=7,"Retard à J-7 ou moins : comparer au même délai N-1 avant d'agir","Suivre le rythme : comparer au même délai N-1")))) -> Saisir l'OTB du jour
... A63: =Daily!A63 -> 46388 | B63: =Daily!G63 -> 40 | D63: =Daily!E63 -> 80 | E63: =ROUNDUP(D63/100*B63,0) -> 32 | F63: =IF(C63="","",MAX(0,E63-C63)) | G63: =A63-TODAY() -> 85 | H63: =IF(OR(C63="",G63<=0),"",ROUNDUP(F63/G63,0)) | I63: =IF(G63<=0,"Date passée",IF(C63="","Saisir l'OTB du jour",IF(F63=0,"Objectif atteint : relire le prix avant de vendre plus",IF(G63<=7,"Retard à J-7 ou moins : comparer au même délai N-1 avant d'agir","Suivre le rythme : comparer au même délai N-1")))) -> Saisir l'OTB du jour

Sheet ByDOW
A1: Jour_sem. | B1: Chambres_vendues | C1: Dispo_effectives | D1: TO_moyen_%
A2: lun | B2: =SUMIFS(Daily!D:D,Daily!F:F,A2) -> 0 | C2: =SUMIFS(Daily!G:G,Daily!F:F,A2,Daily!D:D,"<>") -> 0 | D2: =IF(C2=0,"",B2/C2)
A3: mar | B3: =SUMIFS(Daily!D:D,Daily!F:F,A3) -> 0 | C3: =SUMIFS(Daily!G:G,Daily!F:F,A3,Daily!D:D,"<>") -> 0 | D3: =IF(C3=0,"",B3/C3)
A4: mer | B4: =SUMIFS(Daily!D:D,Daily!F:F,A4) -> 0 | C4: =SUMIFS(Daily!G:G,Daily!F:F,A4,Daily!D:D,"<>") -> 0 | D4: =IF(C4=0,"",B4/C4)
A5: jeu | B5: =SUMIFS(Daily!D:D,Daily!F:F,A5) -> 0 | C5: =SUMIFS(Daily!G:G,Daily!F:F,A5,Daily!D:D,"<>") -> 0 | D5: =IF(C5=0,"",B5/C5)
A6: ven | B6: =SUMIFS(Daily!D:D,Daily!F:F,A6) -> 0 | C6: =SUMIFS(Daily!G:G,Daily!F:F,A6,Daily!D:D,"<>") -> 0 | D6: =IF(C6=0,"",B6/C6)
A7: sam | B7: =SUMIFS(Daily!D:D,Daily!F:F,A7) -> 0 | C7: =SUMIFS(Daily!G:G,Daily!F:F,A7,Daily!D:D,"<>") -> 0 | D7: =IF(C7=0,"",B7/C7)
A8: dim | B8: =SUMIFS(Daily!D:D,Daily!F:F,A8) -> 0 | C8: =SUMIFS(Daily!G:G,Daily!F:F,A8,Daily!D:D,"<>") -> 0 | D8: =IF(C8=0,"",B8/C8)

Sheet Mode_d_emploi
A1: Toolkit Taux d'Occupation hôtel RMD Technologies · version 2 du 08/10/2026 (corrige le calcul du TO, de l'écart, du restant, du pick-up et du TO par jour de semaine de la version 2025)
A2: Feuille Daily : saisissez la date de début en A2 (les suivantes se calculent), puis chaque jour les chambres hors service, les chambres vendues et votre objectif de TO en nombre entier (80 = 80 %). Cellules jaunes = à saisir.
A3: Définition RMD : TO = chambres vendues / (chambres totales − chambres hors service). L'écart est exprimé en points ; le restant est le nombre de chambres à vendre pour atteindre l'objectif.
A4: Feuille Pickup : saisissez l'OTB du jour pour chaque date de séjour (réservations confirmées, annulations déduites). L'outil calcule le besoin restant et un pick-up quotidien cible jusqu'à la date.
A5: Feuille ByDOW : TO moyen par jour de semaine, calculé sur les seuls jours renseignés.
A6: Repères de lecture (à adapter à votre hôtel, jamais à appliquer seuls) :
A7: - Un retard à J-7 se juge au même délai N-1 : une clientèle affaires qui réserve tard n'est pas en retard. Croisez avec le rythme récent et la demande du territoire avant de baisser un palier.
A8: - Objectif atteint tôt : le stock part peut-être trop bon marché. Relisez le prix moyen avant de vendre davantage.
